BEGIN:VCALENDAR
VERSION:2.0
PRODID:-//ADSR Decibel - ECPv6.15.20//NONSGML v1.0//EN
CALSCALE:GREGORIAN
METHOD:PUBLISH
X-WR-CALNAME:ADSR Decibel
X-ORIGINAL-URL:https://www.adsrdecibel.it
X-WR-CALDESC:Eventi per ADSR Decibel
REFRESH-INTERVAL;VALUE=DURATION:PT1H
X-Robots-Tag:noindex
X-PUBLISHED-TTL:PT1H
BEGIN:VTIMEZONE
TZID:Europe/Rome
BEGIN:DAYLIGHT
TZOFFSETFROM:+0100
TZOFFSETTO:+0200
TZNAME:CEST
DTSTART:20240331T010000
END:DAYLIGHT
BEGIN:STANDARD
TZOFFSETFROM:+0200
TZOFFSETTO:+0100
TZNAME:CET
DTSTART:20241027T010000
END:STANDARD
BEGIN:DAYLIGHT
TZOFFSETFROM:+0100
TZOFFSETTO:+0200
TZNAME:CEST
DTSTART:20250330T010000
END:DAYLIGHT
BEGIN:STANDARD
TZOFFSETFROM:+0200
TZOFFSETTO:+0100
TZNAME:CET
DTSTART:20251026T010000
END:STANDARD
BEGIN:DAYLIGHT
TZOFFSETFROM:+0100
TZOFFSETTO:+0200
TZNAME:CEST
DTSTART:20260329T010000
END:DAYLIGHT
BEGIN:STANDARD
TZOFFSETFROM:+0200
TZOFFSETTO:+0100
TZNAME:CET
DTSTART:20261025T010000
END:STANDARD
END:VTIMEZONE
BEGIN:VEVENT
DTSTART;TZID=Europe/Rome:20250416T213000
DTEND;TZID=Europe/Rome:20250416T230000
DTSTAMP:20260421T190805
CREATED:20250409T112215Z
LAST-MODIFIED:20250409T112215Z
UID:859-1744839000-1744844400@www.adsrdecibel.it
SUMMARY:Una serata con: Flaco
DESCRIPTION:Una serata con Flaco (ex Punkreas): viaggio nella storia del punk italiano\nUna di quelle serate da segnare in agenda con l’evidenziatore rosso!Mercoledì 16 aprile 2025\, alle 21.30\, ADSR Decibel apre le sue porte per un evento che farà felici nostalgici\, appassionati e curiosi: una chiacchierata con Flaco\, ex chitarrista e fondatore dei Punkreas\, una delle band simbolo del punk italiano. \n🎸 Chi è Flaco?Se hai vissuto gli anni ’90 a colpi di chitarre distorte\, pogo sudati e fanzine fotocopiate\, non hai bisogno di presentazioni. Flaco è stato tra i protagonisti di quella scena musicale alternativa che ha scosso il panorama italiano\, portando messaggi diretti\, sonorità grezze e un’attitudine do it yourself che ancora oggi è un punto di riferimento per molte generazioni. \nDurante la serata\, avremo l’occasione di ripercorrere aneddoti\, storie\, momenti epici e retroscena della scena punk/hardcore italiana: dai centri sociali alle autoproduzioni\, dai palchi underground alle grandi rivoluzioni culturali che hanno attraversato quegli anni. \n🧠 Un momento per ascoltare\, ridere\, riflettere… e magari anche fare due chiacchiere dirette con chi quella scena l’ha vissuta e costruita\, giorno dopo giorno\, nota dopo nota. \n\n📍 Dove e quando🗓 Mercoledì 16 aprile 2025🕒 Ore 21.30📌 ADSR Decibel – via Alba 17\, Busto Arsizio (VA) \n🎟 Ingresso gratuito\, riservato ai soci ADSR Decibel.La tessera associativa ha validità annuale e costa 10€.👉 Per tesserarti\, clicca qui: https://www.adsrdecibel.it/associati/ \n\nUna serata che è molto più di un talk: è un’occasione per celebrare una cultura\, quella del punk italiano\, che ha lasciato un segno indelebile nella musica e nell’immaginario collettivo. E farlo insieme\, nella cornice familiare e vibrante del Decibel\, è il modo migliore per continuare a tenere vivo quello spirito. \nTi aspettiamo! 🤘 \n#Flaco #Punkreas #PunkItaliano #DecibelBustoArsizio #BustoArsizio #ADSRDecibel #MusicaLive #CulturaUnderground
URL:https://www.adsrdecibel.it/eventi/incontro-flaco-punk-italiano-decibel/
LOCATION:ADSR Decibel\, Via Alba\, 17\, Busto Arsizio\, Varese\, 21052\, Italia
CATEGORIES:Musica
ATTACH;FMTTYPE=image/jpeg:https://www.adsrdecibel.it/wp-content/uploads/2025/04/una-serata-con-flaco-adsr-decibel-eventi-culturali-busto-arsizio.jpg
END:VEVENT
END:VCALENDAR