BEGIN:VCALENDAR
VERSION:2.0
PRODID:-//ADSR Decibel - ECPv6.15.20//NONSGML v1.0//EN
CALSCALE:GREGORIAN
METHOD:PUBLISH
X-ORIGINAL-URL:https://www.adsrdecibel.it
X-WR-CALDESC:Eventi per ADSR Decibel
REFRESH-INTERVAL;VALUE=DURATION:PT1H
X-Robots-Tag:noindex
X-PUBLISHED-TTL:PT1H
BEGIN:VTIMEZONE
TZID:Europe/Rome
BEGIN:DAYLIGHT
TZOFFSETFROM:+0100
TZOFFSETTO:+0200
TZNAME:CEST
DTSTART:20240331T010000
END:DAYLIGHT
BEGIN:STANDARD
TZOFFSETFROM:+0200
TZOFFSETTO:+0100
TZNAME:CET
DTSTART:20241027T010000
END:STANDARD
BEGIN:DAYLIGHT
TZOFFSETFROM:+0100
TZOFFSETTO:+0200
TZNAME:CEST
DTSTART:20250330T010000
END:DAYLIGHT
BEGIN:STANDARD
TZOFFSETFROM:+0200
TZOFFSETTO:+0100
TZNAME:CET
DTSTART:20251026T010000
END:STANDARD
BEGIN:DAYLIGHT
TZOFFSETFROM:+0100
TZOFFSETTO:+0200
TZNAME:CEST
DTSTART:20260329T010000
END:DAYLIGHT
BEGIN:STANDARD
TZOFFSETFROM:+0200
TZOFFSETTO:+0100
TZNAME:CET
DTSTART:20261025T010000
END:STANDARD
END:VTIMEZONE
BEGIN:VEVENT
DTSTART;TZID=Europe/Rome:20250608T160000
DTEND;TZID=Europe/Rome:20250608T210000
DTSTAMP:20260421T190955
CREATED:20250604T060005Z
LAST-MODIFIED:20250604T060031Z
UID:870-1749398400-1749416400@www.adsrdecibel.it
SUMMARY:DECIBEL FEST 2025
DESCRIPTION:DECIBEL FEST 2025\n📍 Via Alba 17\, Busto Arsizio\n📅 Domenica 8 giugno\n⏰ Dalle 14:00 \nADSR Decibel compie un anno!\nUna giornata per raccontarvi chi siamo e qual è la nostra visione culturale e musicale. \nFesteggeremo in collaborazione con @dearlover_tattooshop \, che dalle 14 apre le porte per una giornata di walk in (tattoo senza appuntamento)🖋️ \nGLI OSPITI: \n🚂 All Aboard\nFolk Americana: un treno musicale in corsa tra le montagne degli Appalachi! \n🎤 Anita Camarella & Davide Facchini\nSwing italiano con un’anima americana: eleganza e virtuosismo senza tempo. \n🎸 Antani Duo\nAcoustic classic: il meglio della musica internazionale proposta con tanto sense of humor! \n🛋️ Canzoni sul divano – Open Mic Session: musica vissuta e condivisa. \n🪕 Samuel Domeneghini\, liutaio\nIl suono prende forma tra mani sapienti: strumenti vivi che raccontano storie. \n🍺 Birrificio Red Ale\nBirre artigianali dal carattere deciso. \n🎧 Mercatino e Dj Set con vinili \nUn’intera giornata di suoni\, incontri e creatività. \n📢Ingresso gratuito
URL:https://www.adsrdecibel.it/eventi/decibel-fest-2025/
LOCATION:ADSR Decibel\, Via Alba\, 17\, Busto Arsizio\, Varese\, 21052\, Italia
CATEGORIES:Evento,Musica
ATTACH;FMTTYPE=image/jpeg:https://www.adsrdecibel.it/wp-content/uploads/2025/06/adsr-decibel-fest-2025.jpg
END:VEVENT
END:VCALENDAR