BEGIN:VCALENDAR
VERSION:2.0
PRODID:-//ADSR Decibel - ECPv6.15.20//NONSGML v1.0//EN
CALSCALE:GREGORIAN
METHOD:PUBLISH
X-WR-CALNAME:ADSR Decibel
X-ORIGINAL-URL:https://www.adsrdecibel.it
X-WR-CALDESC:Eventi per ADSR Decibel
REFRESH-INTERVAL;VALUE=DURATION:PT1H
X-Robots-Tag:noindex
X-PUBLISHED-TTL:PT1H
BEGIN:VTIMEZONE
TZID:Europe/Rome
BEGIN:DAYLIGHT
TZOFFSETFROM:+0100
TZOFFSETTO:+0200
TZNAME:CEST
DTSTART:20240331T010000
END:DAYLIGHT
BEGIN:STANDARD
TZOFFSETFROM:+0200
TZOFFSETTO:+0100
TZNAME:CET
DTSTART:20241027T010000
END:STANDARD
BEGIN:DAYLIGHT
TZOFFSETFROM:+0100
TZOFFSETTO:+0200
TZNAME:CEST
DTSTART:20250330T010000
END:DAYLIGHT
BEGIN:STANDARD
TZOFFSETFROM:+0200
TZOFFSETTO:+0100
TZNAME:CET
DTSTART:20251026T010000
END:STANDARD
BEGIN:DAYLIGHT
TZOFFSETFROM:+0100
TZOFFSETTO:+0200
TZNAME:CEST
DTSTART:20260329T010000
END:DAYLIGHT
BEGIN:STANDARD
TZOFFSETFROM:+0200
TZOFFSETTO:+0100
TZNAME:CET
DTSTART:20261025T010000
END:STANDARD
END:VTIMEZONE
BEGIN:VEVENT
DTSTART;TZID=Europe/Rome:20250521T213000
DTEND;TZID=Europe/Rome:20250521T230000
DTSTAMP:20260421T184419
CREATED:20250428T145358Z
LAST-MODIFIED:20250428T145358Z
UID:865-1747863000-1747868400@www.adsrdecibel.it
SUMMARY:Workshop di Flatpicking con Davide Facchini
DESCRIPTION:Alla scoperta del Flatpicking: la chitarra tra melodia e polifonia🎶✨\nMercoledì 21 maggio\, ore 21:30\, non perdere il workshop di Davide Facchini presso ADSR Decibel (Via Alba 17\, Busto Arsizio)!\n\n\n\nIl flatpicking è una tecnica chitarristica nata nell’ambito della musica bluegrass americana\, in cui la chitarra ha iniziato a emergere non solo come strumento d’accompagnamento\, ma anche come voce solista.\nLa traduzione letterale – “suonare con il plettro” – è solo un punto di partenza: il flatpicking è in realtà un approccio completo che unisce precisione ritmica\, articolazione melodica e\, con il tempo\, anche un uso consapevole delle potenzialità polifoniche dello strumento.\n\n\n\nNel corso del workshop verranno introdotte le basi tecniche ed espressive del flatpicking:\n\n\n· gestione del plettro e direzionalità\,\n\n\n· costruzione di linee melodiche\,\n\n\n· uso degli spazi ritmici\,\n\n\n· interplay tra melodia\, armonia e accompagnamento.\n\n\n\nPartendo dal repertorio tradizionale bluegrass\, esploreremo applicazioni trasversali a diversi generi: dalla musica irlandese al blues\, dal jazz al pop-rock\, mettendo in luce la flessibilità di questa tecnica.\n\n\nIl workshop è aperto a chitarristi acustici ed elettrici di ogni livello.\nUn’occasione per ampliare il proprio vocabolario chitarristico e scoprire nuovi orizzonti espressivi.\n\n\n\n#adsrdecibel #workshopmusicale #davidefacchini #chitarraacustica #chitarraelettrica #bustoarsizio
URL:https://www.adsrdecibel.it/eventi/flatpicking-chitarra-workshop-musica/
LOCATION:ADSR Decibel\, Via Alba\, 17\, Busto Arsizio\, Varese\, 21052\, Italia
CATEGORIES:Musica
ATTACH;FMTTYPE=image/jpeg:https://www.adsrdecibel.it/wp-content/uploads/2025/04/491461104_18079487602683144_6065252756309117624_n.jpeg
END:VEVENT
END:VCALENDAR